BEGIN:VCALENDAR
VERSION:2.0
PRODID:-//Atlanta All Nations SDA Church - ECPv6.15.20//NONSGML v1.0//EN
CALSCALE:GREGORIAN
METHOD:PUBLISH
X-ORIGINAL-URL:https://atlantaallnationssda.org
X-WR-CALDESC:Events for Atlanta All Nations SDA Church
REFRESH-INTERVAL;VALUE=DURATION:PT1H
X-Robots-Tag:noindex
X-PUBLISHED-TTL:PT1H
BEGIN:VTIMEZONE
TZID:America/New_York
BEGIN:DAYLIGHT
TZOFFSETFROM:-0500
TZOFFSETTO:-0400
TZNAME:EDT
DTSTART:20250309T070000
END:DAYLIGHT
BEGIN:STANDARD
TZOFFSETFROM:-0400
TZOFFSETTO:-0500
TZNAME:EST
DTSTART:20251102T060000
END:STANDARD
BEGIN:DAYLIGHT
TZOFFSETFROM:-0500
TZOFFSETTO:-0400
TZNAME:EDT
DTSTART:20260308T070000
END:DAYLIGHT
BEGIN:STANDARD
TZOFFSETFROM:-0400
TZOFFSETTO:-0500
TZNAME:EST
DTSTART:20261101T060000
END:STANDARD
BEGIN:DAYLIGHT
TZOFFSETFROM:-0500
TZOFFSETTO:-0400
TZNAME:EDT
DTSTART:20270314T070000
END:DAYLIGHT
BEGIN:STANDARD
TZOFFSETFROM:-0400
TZOFFSETTO:-0500
TZNAME:EST
DTSTART:20271107T060000
END:STANDARD
END:VTIMEZONE
BEGIN:VEVENT
DTSTART;TZID=America/New_York:20260702T190000
DTEND;TZID=America/New_York:20260702T200000
DTSTAMP:20260421T162735
CREATED:20240414T190333Z
LAST-MODIFIED:20251224T013505Z
UID:10002214-1783018800-1783022400@atlantaallnationssda.org
SUMMARY:Weekly Women in the Word
DESCRIPTION:This group meets weekly online for powerful\, mind-shifting studies journeying through God’s Word. Please feel free to join on their Zoom platform. \nhttps://us02web.zoom.us/j/4046082406\n…\nMeeting ID: 404 608 2406\nPassword: 7085\n 
URL:https://atlantaallnationssda.org/event/weekly-women-in-the-word-3/2026-07-02/
LOCATION:GA
CATEGORIES:Women
ATTACH;FMTTYPE=image/jpeg:https://atlantaallnationssda.org/wp-content/uploads/2024/03/weekly-bible-study-scaled.jpg
END:VEVENT
BEGIN:VEVENT
DTSTART;TZID=America/New_York:20260709T190000
DTEND;TZID=America/New_York:20260709T200000
DTSTAMP:20260421T162735
CREATED:20240414T190333Z
LAST-MODIFIED:20251224T013505Z
UID:10002215-1783623600-1783627200@atlantaallnationssda.org
SUMMARY:Weekly Women in the Word
DESCRIPTION:This group meets weekly online for powerful\, mind-shifting studies journeying through God’s Word. Please feel free to join on their Zoom platform. \nhttps://us02web.zoom.us/j/4046082406\n…\nMeeting ID: 404 608 2406\nPassword: 7085\n 
URL:https://atlantaallnationssda.org/event/weekly-women-in-the-word-3/2026-07-09/
LOCATION:GA
CATEGORIES:Women
ATTACH;FMTTYPE=image/jpeg:https://atlantaallnationssda.org/wp-content/uploads/2024/03/weekly-bible-study-scaled.jpg
END:VEVENT
BEGIN:VEVENT
DTSTART;TZID=America/New_York:20260716T190000
DTEND;TZID=America/New_York:20260716T200000
DTSTAMP:20260421T162735
CREATED:20240414T190333Z
LAST-MODIFIED:20251224T013505Z
UID:10002216-1784228400-1784232000@atlantaallnationssda.org
SUMMARY:Weekly Women in the Word
DESCRIPTION:This group meets weekly online for powerful\, mind-shifting studies journeying through God’s Word. Please feel free to join on their Zoom platform. \nhttps://us02web.zoom.us/j/4046082406\n…\nMeeting ID: 404 608 2406\nPassword: 7085\n 
URL:https://atlantaallnationssda.org/event/weekly-women-in-the-word-3/2026-07-16/
LOCATION:GA
CATEGORIES:Women
ATTACH;FMTTYPE=image/jpeg:https://atlantaallnationssda.org/wp-content/uploads/2024/03/weekly-bible-study-scaled.jpg
END:VEVENT
BEGIN:VEVENT
DTSTART;TZID=America/New_York:20260723T190000
DTEND;TZID=America/New_York:20260723T200000
DTSTAMP:20260421T162735
CREATED:20240414T190333Z
LAST-MODIFIED:20251224T013505Z
UID:10002217-1784833200-1784836800@atlantaallnationssda.org
SUMMARY:Weekly Women in the Word
DESCRIPTION:This group meets weekly online for powerful\, mind-shifting studies journeying through God’s Word. Please feel free to join on their Zoom platform. \nhttps://us02web.zoom.us/j/4046082406\n…\nMeeting ID: 404 608 2406\nPassword: 7085\n 
URL:https://atlantaallnationssda.org/event/weekly-women-in-the-word-3/2026-07-23/
LOCATION:GA
CATEGORIES:Women
ATTACH;FMTTYPE=image/jpeg:https://atlantaallnationssda.org/wp-content/uploads/2024/03/weekly-bible-study-scaled.jpg
END:VEVENT
BEGIN:VEVENT
DTSTART;TZID=America/New_York:20260730T190000
DTEND;TZID=America/New_York:20260730T200000
DTSTAMP:20260421T162735
CREATED:20240414T190333Z
LAST-MODIFIED:20251224T013505Z
UID:10002218-1785438000-1785441600@atlantaallnationssda.org
SUMMARY:Weekly Women in the Word
DESCRIPTION:This group meets weekly online for powerful\, mind-shifting studies journeying through God’s Word. Please feel free to join on their Zoom platform. \nhttps://us02web.zoom.us/j/4046082406\n…\nMeeting ID: 404 608 2406\nPassword: 7085\n 
URL:https://atlantaallnationssda.org/event/weekly-women-in-the-word-3/2026-07-30/
LOCATION:GA
CATEGORIES:Women
ATTACH;FMTTYPE=image/jpeg:https://atlantaallnationssda.org/wp-content/uploads/2024/03/weekly-bible-study-scaled.jpg
END:VEVENT
END:VCALENDAR