BEGIN:VCALENDAR
VERSION:2.0
PRODID:-//Atlanta All Nations SDA Church - ECPv6.15.20//NONSGML v1.0//EN
CALSCALE:GREGORIAN
METHOD:PUBLISH
X-WR-CALNAME:Atlanta All Nations SDA Church
X-ORIGINAL-URL:https://atlantaallnationssda.org
X-WR-CALDESC:Events for Atlanta All Nations SDA Church
REFRESH-INTERVAL;VALUE=DURATION:PT1H
X-Robots-Tag:noindex
X-PUBLISHED-TTL:PT1H
BEGIN:VTIMEZONE
TZID:America/New_York
BEGIN:DAYLIGHT
TZOFFSETFROM:-0500
TZOFFSETTO:-0400
TZNAME:EDT
DTSTART:20250309T070000
END:DAYLIGHT
BEGIN:STANDARD
TZOFFSETFROM:-0400
TZOFFSETTO:-0500
TZNAME:EST
DTSTART:20251102T060000
END:STANDARD
BEGIN:DAYLIGHT
TZOFFSETFROM:-0500
TZOFFSETTO:-0400
TZNAME:EDT
DTSTART:20260308T070000
END:DAYLIGHT
BEGIN:STANDARD
TZOFFSETFROM:-0400
TZOFFSETTO:-0500
TZNAME:EST
DTSTART:20261101T060000
END:STANDARD
BEGIN:DAYLIGHT
TZOFFSETFROM:-0500
TZOFFSETTO:-0400
TZNAME:EDT
DTSTART:20270314T070000
END:DAYLIGHT
BEGIN:STANDARD
TZOFFSETFROM:-0400
TZOFFSETTO:-0500
TZNAME:EST
DTSTART:20271107T060000
END:STANDARD
END:VTIMEZONE
BEGIN:VEVENT
DTSTART;TZID=America/New_York:20260903T190000
DTEND;TZID=America/New_York:20260903T200000
DTSTAMP:20260421T195307
CREATED:20240414T190333Z
LAST-MODIFIED:20251224T013505Z
UID:10002223-1788462000-1788465600@atlantaallnationssda.org
SUMMARY:Weekly Women in the Word
DESCRIPTION:This group meets weekly online for powerful\, mind-shifting studies journeying through God’s Word. Please feel free to join on their Zoom platform. \nhttps://us02web.zoom.us/j/4046082406\n…\nMeeting ID: 404 608 2406\nPassword: 7085\n 
URL:https://atlantaallnationssda.org/event/weekly-women-in-the-word-3/2026-09-03/
LOCATION:GA
CATEGORIES:Women
ATTACH;FMTTYPE=image/jpeg:https://atlantaallnationssda.org/wp-content/uploads/2024/03/weekly-bible-study-scaled.jpg
END:VEVENT
BEGIN:VEVENT
DTSTART;TZID=America/New_York:20260910T190000
DTEND;TZID=America/New_York:20260910T200000
DTSTAMP:20260421T195307
CREATED:20240414T190333Z
LAST-MODIFIED:20251224T013505Z
UID:10002224-1789066800-1789070400@atlantaallnationssda.org
SUMMARY:Weekly Women in the Word
DESCRIPTION:This group meets weekly online for powerful\, mind-shifting studies journeying through God’s Word. Please feel free to join on their Zoom platform. \nhttps://us02web.zoom.us/j/4046082406\n…\nMeeting ID: 404 608 2406\nPassword: 7085\n 
URL:https://atlantaallnationssda.org/event/weekly-women-in-the-word-3/2026-09-10/
LOCATION:GA
CATEGORIES:Women
ATTACH;FMTTYPE=image/jpeg:https://atlantaallnationssda.org/wp-content/uploads/2024/03/weekly-bible-study-scaled.jpg
END:VEVENT
BEGIN:VEVENT
DTSTART;TZID=America/New_York:20260917T190000
DTEND;TZID=America/New_York:20260917T200000
DTSTAMP:20260421T195307
CREATED:20240414T190333Z
LAST-MODIFIED:20251224T013505Z
UID:10002225-1789671600-1789675200@atlantaallnationssda.org
SUMMARY:Weekly Women in the Word
DESCRIPTION:This group meets weekly online for powerful\, mind-shifting studies journeying through God’s Word. Please feel free to join on their Zoom platform. \nhttps://us02web.zoom.us/j/4046082406\n…\nMeeting ID: 404 608 2406\nPassword: 7085\n 
URL:https://atlantaallnationssda.org/event/weekly-women-in-the-word-3/2026-09-17/
LOCATION:GA
CATEGORIES:Women
ATTACH;FMTTYPE=image/jpeg:https://atlantaallnationssda.org/wp-content/uploads/2024/03/weekly-bible-study-scaled.jpg
END:VEVENT
BEGIN:VEVENT
DTSTART;TZID=America/New_York:20260924T190000
DTEND;TZID=America/New_York:20260924T200000
DTSTAMP:20260421T195307
CREATED:20240414T190333Z
LAST-MODIFIED:20251224T013505Z
UID:10002226-1790276400-1790280000@atlantaallnationssda.org
SUMMARY:Weekly Women in the Word
DESCRIPTION:This group meets weekly online for powerful\, mind-shifting studies journeying through God’s Word. Please feel free to join on their Zoom platform. \nhttps://us02web.zoom.us/j/4046082406\n…\nMeeting ID: 404 608 2406\nPassword: 7085\n 
URL:https://atlantaallnationssda.org/event/weekly-women-in-the-word-3/2026-09-24/
LOCATION:GA
CATEGORIES:Women
ATTACH;FMTTYPE=image/jpeg:https://atlantaallnationssda.org/wp-content/uploads/2024/03/weekly-bible-study-scaled.jpg
END:VEVENT
END:VCALENDAR