BEGIN:VCALENDAR
VERSION:2.0
PRODID:-//Atlanta All Nations SDA Church - ECPv6.15.20//NONSGML v1.0//EN
CALSCALE:GREGORIAN
METHOD:PUBLISH
X-ORIGINAL-URL:https://atlantaallnationssda.org
X-WR-CALDESC:Events for Atlanta All Nations SDA Church
REFRESH-INTERVAL;VALUE=DURATION:PT1H
X-Robots-Tag:noindex
X-PUBLISHED-TTL:PT1H
BEGIN:VTIMEZONE
TZID:America/New_York
BEGIN:DAYLIGHT
TZOFFSETFROM:-0500
TZOFFSETTO:-0400
TZNAME:EDT
DTSTART:20230312T070000
END:DAYLIGHT
BEGIN:STANDARD
TZOFFSETFROM:-0400
TZOFFSETTO:-0500
TZNAME:EST
DTSTART:20231105T060000
END:STANDARD
BEGIN:DAYLIGHT
TZOFFSETFROM:-0500
TZOFFSETTO:-0400
TZNAME:EDT
DTSTART:20240310T070000
END:DAYLIGHT
BEGIN:STANDARD
TZOFFSETFROM:-0400
TZOFFSETTO:-0500
TZNAME:EST
DTSTART:20241103T060000
END:STANDARD
BEGIN:DAYLIGHT
TZOFFSETFROM:-0500
TZOFFSETTO:-0400
TZNAME:EDT
DTSTART:20250309T070000
END:DAYLIGHT
BEGIN:STANDARD
TZOFFSETFROM:-0400
TZOFFSETTO:-0500
TZNAME:EST
DTSTART:20251102T060000
END:STANDARD
BEGIN:DAYLIGHT
TZOFFSETFROM:-0500
TZOFFSETTO:-0400
TZNAME:EDT
DTSTART:20260308T070000
END:DAYLIGHT
BEGIN:STANDARD
TZOFFSETFROM:-0400
TZOFFSETTO:-0500
TZNAME:EST
DTSTART:20261101T060000
END:STANDARD
BEGIN:DAYLIGHT
TZOFFSETFROM:-0500
TZOFFSETTO:-0400
TZNAME:EDT
DTSTART:20270314T070000
END:DAYLIGHT
BEGIN:STANDARD
TZOFFSETFROM:-0400
TZOFFSETTO:-0500
TZNAME:EST
DTSTART:20271107T060000
END:STANDARD
END:VTIMEZONE
BEGIN:VEVENT
DTSTART;TZID=America/New_York:20260416T190000
DTEND;TZID=America/New_York:20260416T200000
DTSTAMP:20260421T145448
CREATED:20240414T190333Z
LAST-MODIFIED:20251224T013505Z
UID:10002203-1776366000-1776369600@atlantaallnationssda.org
SUMMARY:Weekly Women in the Word
DESCRIPTION:This group meets weekly online for powerful\, mind-shifting studies journeying through God’s Word. Please feel free to join on their Zoom platform. \nhttps://us02web.zoom.us/j/4046082406\n…\nMeeting ID: 404 608 2406\nPassword: 7085\n 
URL:https://atlantaallnationssda.org/event/weekly-women-in-the-word-3/2026-04-16/
LOCATION:GA
CATEGORIES:Women
ATTACH;FMTTYPE=image/jpeg:https://atlantaallnationssda.org/wp-content/uploads/2024/03/weekly-bible-study-scaled.jpg
END:VEVENT
BEGIN:VEVENT
DTSTART;TZID=America/New_York:20251004T100000
DTEND;TZID=America/New_York:20251004T170000
DTSTAMP:20260421T145448
CREATED:20250927T121440Z
LAST-MODIFIED:20250929T113528Z
UID:10004967-1759572000-1759597200@atlantaallnationssda.org
SUMMARY:A Silent Sorrow No More
DESCRIPTION:Schedule\nSabbath School hour – 10:00am – 11:15am\nSession 1: Breaking the Silence \n  \n\n\nDivine Hour – 11:20am – 1:15pm\nSession 2: Your Intrinsic Value: Made in His Image\n  \n\n\n(Lunch)\n \n\n\n2:30/2:45pm – 3:30/3:45pm\nSession 3: Exploring Abortion’s Difficult Questions (Q&A)\n \n\n\nBreak: 10-15 minutes\n \n\n\n4:00pm -5:00pm\nSession 4: The Glory of Redemptive Grace\n \n\nEach session is a full 60 minutes.\n \n\n\n\n\nAbout Our Presenters\n\n\nDianne Peeples Wagner\nDianne lived with her best friend and husband\, David\, for over 30 years and is the mother of four grown children. Being a post-abortive woman\, Dianne knows firsthand the crippling shame that comes from choosing abortion. She also knows the sweet\, redemptive love of a Heavenly Father and Creator.\nDianne has spoken across the United States and in Canada\, on college campuses\, at conventions including ASI\, GYC\, and the NAD Women’s Convention and has appeared on 3ABN\, White Horse Media\, and It is Written. \nDianne is committed to encouraging other post-abortive women and men to finally address the pain that is so often stuffed away for years and experience being fully redeemed through Jesus Christ. \n\n\n  \n  \nAntionette Duck\nAntionette is a living testament to the redemptive grace of the Lord.  As one rescued from abortion\, she is now an attorney and speaker dedicated to rescuing others. \nAntionette has spoken across the United States and in Canada\, on college campuses\, at conventions including ASI\, GYC\, and the NAD Women’s Convention and has appeared on 3ABN\, White Horse Media\, and It is Written. \nAntionette has come to understand that her faults and failures are not the end of the story – because the story of the Cross is the story of redemption. She invites you to walk in the redemptive grace that is yours.
URL:https://atlantaallnationssda.org/event/mafgia-ministries-presents-a-silent-sorrow-no-more/
LOCATION:Atlanta All Nations SDA Church\, 1001 Old Snellville Highway\, Lawrenceville\, GA\, 30044\, United States
CATEGORIES:Women
ATTACH;FMTTYPE=image/jpeg:https://atlantaallnationssda.org/wp-content/uploads/2025/09/16_9.jpg
END:VEVENT
BEGIN:VEVENT
DTSTART;TZID=America/New_York:20241219T190000
DTEND;TZID=America/New_York:20241219T203000
DTSTAMP:20260421T145448
CREATED:20241019T003548Z
LAST-MODIFIED:20241102T114539Z
UID:10002468-1734634800-1734640200@atlantaallnationssda.org
SUMMARY:Overcomer's
DESCRIPTION:Weekly Women in the Word (WWW) presents the Overcomer’s Series\, a Bible study exploring the 7 churches of Revelation. The goal of these sessions is to bring the salvific meaning of the churches closer to home as we recognize the issues of the churches are real issues we face in our lives today. \nThursdays\, from October 31-December 19\, excluding Thanksgiving Day. \nJoin on Zoom\nMeeting ID: 404 608 2406\nPasscode: 7085
URL:https://atlantaallnationssda.org/event/overcomers/2024-12-19/
LOCATION:GA
CATEGORIES:Women
END:VEVENT
BEGIN:VEVENT
DTSTART;TZID=America/New_York:20241013T140000
DTEND;TZID=America/New_York:20241013T160000
DTSTAMP:20260421T145448
CREATED:20241013T014241Z
LAST-MODIFIED:20241102T115008Z
UID:10002400-1728828000-1728835200@atlantaallnationssda.org
SUMMARY:Women's Ministries Meet & Greet
DESCRIPTION:All women are welcome to join us for some fun\, food\, and conversation.
URL:https://atlantaallnationssda.org/event/womens-ministries-meet-greet/
LOCATION:Atlanta All Nations SDA Church\, 1001 Old Snellville Highway\, Lawrenceville\, GA\, 30044\, United States
CATEGORIES:Women
END:VEVENT
END:VCALENDAR