BEGIN:VCALENDAR
VERSION:2.0
PRODID:-//Atlanta All Nations SDA Church - ECPv6.15.20//NONSGML v1.0//EN
CALSCALE:GREGORIAN
METHOD:PUBLISH
X-WR-CALNAME:Atlanta All Nations SDA Church
X-ORIGINAL-URL:https://atlantaallnationssda.org
X-WR-CALDESC:Events for Atlanta All Nations SDA Church
REFRESH-INTERVAL;VALUE=DURATION:PT1H
X-Robots-Tag:noindex
X-PUBLISHED-TTL:PT1H
BEGIN:VTIMEZONE
TZID:America/New_York
BEGIN:DAYLIGHT
TZOFFSETFROM:-0500
TZOFFSETTO:-0400
TZNAME:EDT
DTSTART:20250309T070000
END:DAYLIGHT
BEGIN:STANDARD
TZOFFSETFROM:-0400
TZOFFSETTO:-0500
TZNAME:EST
DTSTART:20251102T060000
END:STANDARD
BEGIN:DAYLIGHT
TZOFFSETFROM:-0500
TZOFFSETTO:-0400
TZNAME:EDT
DTSTART:20260308T070000
END:DAYLIGHT
BEGIN:STANDARD
TZOFFSETFROM:-0400
TZOFFSETTO:-0500
TZNAME:EST
DTSTART:20261101T060000
END:STANDARD
BEGIN:DAYLIGHT
TZOFFSETFROM:-0500
TZOFFSETTO:-0400
TZNAME:EDT
DTSTART:20270314T070000
END:DAYLIGHT
BEGIN:STANDARD
TZOFFSETFROM:-0400
TZOFFSETTO:-0500
TZNAME:EST
DTSTART:20271107T060000
END:STANDARD
END:VTIMEZONE
BEGIN:VEVENT
DTSTART;TZID=America/New_York:20260425T111500
DTEND;TZID=America/New_York:20260425T130000
DTSTAMP:20260421T112911
CREATED:20241227T220844Z
LAST-MODIFIED:20251224T013606Z
UID:10003648-1777115700-1777122000@atlantaallnationssda.org
SUMMARY:Midday Service
DESCRIPTION:Join us for worship and fellowship each week beginning at 11:15 am.
URL:https://atlantaallnationssda.org/event/midday-service/2026-04-25/
LOCATION:Atlanta All Nations SDA Church\, 1001 Old Snellville Highway\, Lawrenceville\, GA\, 30044\, United States
END:VEVENT
BEGIN:VEVENT
DTSTART;TZID=America/New_York:20260502T111500
DTEND;TZID=America/New_York:20260502T130000
DTSTAMP:20260421T112911
CREATED:20241227T220844Z
LAST-MODIFIED:20251224T013606Z
UID:10003649-1777720500-1777726800@atlantaallnationssda.org
SUMMARY:Midday Service
DESCRIPTION:Join us for worship and fellowship each week beginning at 11:15 am.
URL:https://atlantaallnationssda.org/event/midday-service/2026-05-02/
LOCATION:Atlanta All Nations SDA Church\, 1001 Old Snellville Highway\, Lawrenceville\, GA\, 30044\, United States
END:VEVENT
BEGIN:VEVENT
DTSTART;TZID=America/New_York:20260509T111500
DTEND;TZID=America/New_York:20260509T130000
DTSTAMP:20260421T112911
CREATED:20241227T220844Z
LAST-MODIFIED:20251224T013606Z
UID:10003650-1778325300-1778331600@atlantaallnationssda.org
SUMMARY:Midday Service
DESCRIPTION:Join us for worship and fellowship each week beginning at 11:15 am.
URL:https://atlantaallnationssda.org/event/midday-service/2026-05-09/
LOCATION:Atlanta All Nations SDA Church\, 1001 Old Snellville Highway\, Lawrenceville\, GA\, 30044\, United States
END:VEVENT
BEGIN:VEVENT
DTSTART;TZID=America/New_York:20260516T111500
DTEND;TZID=America/New_York:20260516T130000
DTSTAMP:20260421T112911
CREATED:20241227T220844Z
LAST-MODIFIED:20251224T013606Z
UID:10003651-1778930100-1778936400@atlantaallnationssda.org
SUMMARY:Midday Service
DESCRIPTION:Join us for worship and fellowship each week beginning at 11:15 am.
URL:https://atlantaallnationssda.org/event/midday-service/2026-05-16/
LOCATION:Atlanta All Nations SDA Church\, 1001 Old Snellville Highway\, Lawrenceville\, GA\, 30044\, United States
END:VEVENT
BEGIN:VEVENT
DTSTART;TZID=America/New_York:20260523T111500
DTEND;TZID=America/New_York:20260523T130000
DTSTAMP:20260421T112911
CREATED:20241227T220844Z
LAST-MODIFIED:20251224T013606Z
UID:10003652-1779534900-1779541200@atlantaallnationssda.org
SUMMARY:Midday Service
DESCRIPTION:Join us for worship and fellowship each week beginning at 11:15 am.
URL:https://atlantaallnationssda.org/event/midday-service/2026-05-23/
LOCATION:Atlanta All Nations SDA Church\, 1001 Old Snellville Highway\, Lawrenceville\, GA\, 30044\, United States
END:VEVENT
BEGIN:VEVENT
DTSTART;TZID=America/New_York:20260530T111500
DTEND;TZID=America/New_York:20260530T130000
DTSTAMP:20260421T112911
CREATED:20241227T220844Z
LAST-MODIFIED:20251224T013606Z
UID:10003653-1780139700-1780146000@atlantaallnationssda.org
SUMMARY:Midday Service
DESCRIPTION:Join us for worship and fellowship each week beginning at 11:15 am.
URL:https://atlantaallnationssda.org/event/midday-service/2026-05-30/
LOCATION:Atlanta All Nations SDA Church\, 1001 Old Snellville Highway\, Lawrenceville\, GA\, 30044\, United States
END:VEVENT
BEGIN:VEVENT
DTSTART;TZID=America/New_York:20260606T111500
DTEND;TZID=America/New_York:20260606T130000
DTSTAMP:20260421T112911
CREATED:20241227T220844Z
LAST-MODIFIED:20251224T013606Z
UID:10003654-1780744500-1780750800@atlantaallnationssda.org
SUMMARY:Midday Service
DESCRIPTION:Join us for worship and fellowship each week beginning at 11:15 am.
URL:https://atlantaallnationssda.org/event/midday-service/2026-06-06/
LOCATION:Atlanta All Nations SDA Church\, 1001 Old Snellville Highway\, Lawrenceville\, GA\, 30044\, United States
END:VEVENT
BEGIN:VEVENT
DTSTART;TZID=America/New_York:20260613T111500
DTEND;TZID=America/New_York:20260613T130000
DTSTAMP:20260421T112911
CREATED:20241227T220844Z
LAST-MODIFIED:20251224T013606Z
UID:10003655-1781349300-1781355600@atlantaallnationssda.org
SUMMARY:Midday Service
DESCRIPTION:Join us for worship and fellowship each week beginning at 11:15 am.
URL:https://atlantaallnationssda.org/event/midday-service/2026-06-13/
LOCATION:Atlanta All Nations SDA Church\, 1001 Old Snellville Highway\, Lawrenceville\, GA\, 30044\, United States
END:VEVENT
BEGIN:VEVENT
DTSTART;TZID=America/New_York:20260620T111500
DTEND;TZID=America/New_York:20260620T130000
DTSTAMP:20260421T112911
CREATED:20241227T220844Z
LAST-MODIFIED:20251224T013606Z
UID:10003656-1781954100-1781960400@atlantaallnationssda.org
SUMMARY:Midday Service
DESCRIPTION:Join us for worship and fellowship each week beginning at 11:15 am.
URL:https://atlantaallnationssda.org/event/midday-service/2026-06-20/
LOCATION:Atlanta All Nations SDA Church\, 1001 Old Snellville Highway\, Lawrenceville\, GA\, 30044\, United States
END:VEVENT
BEGIN:VEVENT
DTSTART;TZID=America/New_York:20260627T111500
DTEND;TZID=America/New_York:20260627T130000
DTSTAMP:20260421T112911
CREATED:20241227T220844Z
LAST-MODIFIED:20251224T013606Z
UID:10003657-1782558900-1782565200@atlantaallnationssda.org
SUMMARY:Midday Service
DESCRIPTION:Join us for worship and fellowship each week beginning at 11:15 am.
URL:https://atlantaallnationssda.org/event/midday-service/2026-06-27/
LOCATION:Atlanta All Nations SDA Church\, 1001 Old Snellville Highway\, Lawrenceville\, GA\, 30044\, United States
END:VEVENT
BEGIN:VEVENT
DTSTART;TZID=America/New_York:20260704T111500
DTEND;TZID=America/New_York:20260704T130000
DTSTAMP:20260421T112911
CREATED:20241227T220844Z
LAST-MODIFIED:20251224T013606Z
UID:10003658-1783163700-1783170000@atlantaallnationssda.org
SUMMARY:Midday Service
DESCRIPTION:Join us for worship and fellowship each week beginning at 11:15 am.
URL:https://atlantaallnationssda.org/event/midday-service/2026-07-04/
LOCATION:Atlanta All Nations SDA Church\, 1001 Old Snellville Highway\, Lawrenceville\, GA\, 30044\, United States
END:VEVENT
BEGIN:VEVENT
DTSTART;TZID=America/New_York:20260711T111500
DTEND;TZID=America/New_York:20260711T130000
DTSTAMP:20260421T112911
CREATED:20241227T220844Z
LAST-MODIFIED:20251224T013606Z
UID:10003659-1783768500-1783774800@atlantaallnationssda.org
SUMMARY:Midday Service
DESCRIPTION:Join us for worship and fellowship each week beginning at 11:15 am.
URL:https://atlantaallnationssda.org/event/midday-service/2026-07-11/
LOCATION:Atlanta All Nations SDA Church\, 1001 Old Snellville Highway\, Lawrenceville\, GA\, 30044\, United States
END:VEVENT
BEGIN:VEVENT
DTSTART;TZID=America/New_York:20260718T111500
DTEND;TZID=America/New_York:20260718T130000
DTSTAMP:20260421T112911
CREATED:20241227T220844Z
LAST-MODIFIED:20251224T013606Z
UID:10003660-1784373300-1784379600@atlantaallnationssda.org
SUMMARY:Midday Service
DESCRIPTION:Join us for worship and fellowship each week beginning at 11:15 am.
URL:https://atlantaallnationssda.org/event/midday-service/2026-07-18/
LOCATION:Atlanta All Nations SDA Church\, 1001 Old Snellville Highway\, Lawrenceville\, GA\, 30044\, United States
END:VEVENT
BEGIN:VEVENT
DTSTART;TZID=America/New_York:20260725T111500
DTEND;TZID=America/New_York:20260725T130000
DTSTAMP:20260421T112911
CREATED:20241227T220844Z
LAST-MODIFIED:20251224T013606Z
UID:10003661-1784978100-1784984400@atlantaallnationssda.org
SUMMARY:Midday Service
DESCRIPTION:Join us for worship and fellowship each week beginning at 11:15 am.
URL:https://atlantaallnationssda.org/event/midday-service/2026-07-25/
LOCATION:Atlanta All Nations SDA Church\, 1001 Old Snellville Highway\, Lawrenceville\, GA\, 30044\, United States
END:VEVENT
BEGIN:VEVENT
DTSTART;TZID=America/New_York:20260801T111500
DTEND;TZID=America/New_York:20260801T130000
DTSTAMP:20260421T112911
CREATED:20241227T220844Z
LAST-MODIFIED:20251224T013606Z
UID:10003662-1785582900-1785589200@atlantaallnationssda.org
SUMMARY:Midday Service
DESCRIPTION:Join us for worship and fellowship each week beginning at 11:15 am.
URL:https://atlantaallnationssda.org/event/midday-service/2026-08-01/
LOCATION:Atlanta All Nations SDA Church\, 1001 Old Snellville Highway\, Lawrenceville\, GA\, 30044\, United States
END:VEVENT
BEGIN:VEVENT
DTSTART;TZID=America/New_York:20260808T111500
DTEND;TZID=America/New_York:20260808T130000
DTSTAMP:20260421T112911
CREATED:20241227T220844Z
LAST-MODIFIED:20251224T013606Z
UID:10003663-1786187700-1786194000@atlantaallnationssda.org
SUMMARY:Midday Service
DESCRIPTION:Join us for worship and fellowship each week beginning at 11:15 am.
URL:https://atlantaallnationssda.org/event/midday-service/2026-08-08/
LOCATION:Atlanta All Nations SDA Church\, 1001 Old Snellville Highway\, Lawrenceville\, GA\, 30044\, United States
END:VEVENT
BEGIN:VEVENT
DTSTART;TZID=America/New_York:20260815T111500
DTEND;TZID=America/New_York:20260815T130000
DTSTAMP:20260421T112911
CREATED:20241227T220844Z
LAST-MODIFIED:20251224T013606Z
UID:10003664-1786792500-1786798800@atlantaallnationssda.org
SUMMARY:Midday Service
DESCRIPTION:Join us for worship and fellowship each week beginning at 11:15 am.
URL:https://atlantaallnationssda.org/event/midday-service/2026-08-15/
LOCATION:Atlanta All Nations SDA Church\, 1001 Old Snellville Highway\, Lawrenceville\, GA\, 30044\, United States
END:VEVENT
BEGIN:VEVENT
DTSTART;TZID=America/New_York:20260822T111500
DTEND;TZID=America/New_York:20260822T130000
DTSTAMP:20260421T112911
CREATED:20241227T220844Z
LAST-MODIFIED:20251224T013606Z
UID:10003665-1787397300-1787403600@atlantaallnationssda.org
SUMMARY:Midday Service
DESCRIPTION:Join us for worship and fellowship each week beginning at 11:15 am.
URL:https://atlantaallnationssda.org/event/midday-service/2026-08-22/
LOCATION:Atlanta All Nations SDA Church\, 1001 Old Snellville Highway\, Lawrenceville\, GA\, 30044\, United States
END:VEVENT
BEGIN:VEVENT
DTSTART;TZID=America/New_York:20260829T111500
DTEND;TZID=America/New_York:20260829T130000
DTSTAMP:20260421T112911
CREATED:20241227T220844Z
LAST-MODIFIED:20251224T013606Z
UID:10003666-1788002100-1788008400@atlantaallnationssda.org
SUMMARY:Midday Service
DESCRIPTION:Join us for worship and fellowship each week beginning at 11:15 am.
URL:https://atlantaallnationssda.org/event/midday-service/2026-08-29/
LOCATION:Atlanta All Nations SDA Church\, 1001 Old Snellville Highway\, Lawrenceville\, GA\, 30044\, United States
END:VEVENT
BEGIN:VEVENT
DTSTART;TZID=America/New_York:20260905T111500
DTEND;TZID=America/New_York:20260905T130000
DTSTAMP:20260421T112911
CREATED:20241227T220844Z
LAST-MODIFIED:20251224T013606Z
UID:10003667-1788606900-1788613200@atlantaallnationssda.org
SUMMARY:Midday Service
DESCRIPTION:Join us for worship and fellowship each week beginning at 11:15 am.
URL:https://atlantaallnationssda.org/event/midday-service/2026-09-05/
LOCATION:Atlanta All Nations SDA Church\, 1001 Old Snellville Highway\, Lawrenceville\, GA\, 30044\, United States
END:VEVENT
BEGIN:VEVENT
DTSTART;TZID=America/New_York:20260912T111500
DTEND;TZID=America/New_York:20260912T130000
DTSTAMP:20260421T112911
CREATED:20241227T220844Z
LAST-MODIFIED:20251224T013606Z
UID:10003668-1789211700-1789218000@atlantaallnationssda.org
SUMMARY:Midday Service
DESCRIPTION:Join us for worship and fellowship each week beginning at 11:15 am.
URL:https://atlantaallnationssda.org/event/midday-service/2026-09-12/
LOCATION:Atlanta All Nations SDA Church\, 1001 Old Snellville Highway\, Lawrenceville\, GA\, 30044\, United States
END:VEVENT
BEGIN:VEVENT
DTSTART;TZID=America/New_York:20260919T111500
DTEND;TZID=America/New_York:20260919T130000
DTSTAMP:20260421T112911
CREATED:20241227T220844Z
LAST-MODIFIED:20251224T013606Z
UID:10003669-1789816500-1789822800@atlantaallnationssda.org
SUMMARY:Midday Service
DESCRIPTION:Join us for worship and fellowship each week beginning at 11:15 am.
URL:https://atlantaallnationssda.org/event/midday-service/2026-09-19/
LOCATION:Atlanta All Nations SDA Church\, 1001 Old Snellville Highway\, Lawrenceville\, GA\, 30044\, United States
END:VEVENT
BEGIN:VEVENT
DTSTART;TZID=America/New_York:20260926T111500
DTEND;TZID=America/New_York:20260926T130000
DTSTAMP:20260421T112911
CREATED:20241227T220844Z
LAST-MODIFIED:20251224T013606Z
UID:10003670-1790421300-1790427600@atlantaallnationssda.org
SUMMARY:Midday Service
DESCRIPTION:Join us for worship and fellowship each week beginning at 11:15 am.
URL:https://atlantaallnationssda.org/event/midday-service/2026-09-26/
LOCATION:Atlanta All Nations SDA Church\, 1001 Old Snellville Highway\, Lawrenceville\, GA\, 30044\, United States
END:VEVENT
BEGIN:VEVENT
DTSTART;TZID=America/New_York:20261003T111500
DTEND;TZID=America/New_York:20261003T130000
DTSTAMP:20260421T112911
CREATED:20241227T220844Z
LAST-MODIFIED:20251224T013606Z
UID:10003671-1791026100-1791032400@atlantaallnationssda.org
SUMMARY:Midday Service
DESCRIPTION:Join us for worship and fellowship each week beginning at 11:15 am.
URL:https://atlantaallnationssda.org/event/midday-service/2026-10-03/
LOCATION:Atlanta All Nations SDA Church\, 1001 Old Snellville Highway\, Lawrenceville\, GA\, 30044\, United States
END:VEVENT
BEGIN:VEVENT
DTSTART;TZID=America/New_York:20261010T111500
DTEND;TZID=America/New_York:20261010T130000
DTSTAMP:20260421T112911
CREATED:20241227T220844Z
LAST-MODIFIED:20251224T013606Z
UID:10003672-1791630900-1791637200@atlantaallnationssda.org
SUMMARY:Midday Service
DESCRIPTION:Join us for worship and fellowship each week beginning at 11:15 am.
URL:https://atlantaallnationssda.org/event/midday-service/2026-10-10/
LOCATION:Atlanta All Nations SDA Church\, 1001 Old Snellville Highway\, Lawrenceville\, GA\, 30044\, United States
END:VEVENT
BEGIN:VEVENT
DTSTART;TZID=America/New_York:20261017T111500
DTEND;TZID=America/New_York:20261017T130000
DTSTAMP:20260421T112911
CREATED:20241227T220844Z
LAST-MODIFIED:20251224T013606Z
UID:10003673-1792235700-1792242000@atlantaallnationssda.org
SUMMARY:Midday Service
DESCRIPTION:Join us for worship and fellowship each week beginning at 11:15 am.
URL:https://atlantaallnationssda.org/event/midday-service/2026-10-17/
LOCATION:Atlanta All Nations SDA Church\, 1001 Old Snellville Highway\, Lawrenceville\, GA\, 30044\, United States
END:VEVENT
BEGIN:VEVENT
DTSTART;TZID=America/New_York:20261024T111500
DTEND;TZID=America/New_York:20261024T130000
DTSTAMP:20260421T112911
CREATED:20241227T220844Z
LAST-MODIFIED:20251224T013606Z
UID:10003674-1792840500-1792846800@atlantaallnationssda.org
SUMMARY:Midday Service
DESCRIPTION:Join us for worship and fellowship each week beginning at 11:15 am.
URL:https://atlantaallnationssda.org/event/midday-service/2026-10-24/
LOCATION:Atlanta All Nations SDA Church\, 1001 Old Snellville Highway\, Lawrenceville\, GA\, 30044\, United States
END:VEVENT
BEGIN:VEVENT
DTSTART;TZID=America/New_York:20261031T111500
DTEND;TZID=America/New_York:20261031T130000
DTSTAMP:20260421T112911
CREATED:20241227T220844Z
LAST-MODIFIED:20251224T013606Z
UID:10003675-1793445300-1793451600@atlantaallnationssda.org
SUMMARY:Midday Service
DESCRIPTION:Join us for worship and fellowship each week beginning at 11:15 am.
URL:https://atlantaallnationssda.org/event/midday-service/2026-10-31/
LOCATION:Atlanta All Nations SDA Church\, 1001 Old Snellville Highway\, Lawrenceville\, GA\, 30044\, United States
END:VEVENT
BEGIN:VEVENT
DTSTART;TZID=America/New_York:20261107T111500
DTEND;TZID=America/New_York:20261107T130000
DTSTAMP:20260421T112911
CREATED:20241227T220844Z
LAST-MODIFIED:20251224T013606Z
UID:10003676-1794050100-1794056400@atlantaallnationssda.org
SUMMARY:Midday Service
DESCRIPTION:Join us for worship and fellowship each week beginning at 11:15 am.
URL:https://atlantaallnationssda.org/event/midday-service/2026-11-07/
LOCATION:Atlanta All Nations SDA Church\, 1001 Old Snellville Highway\, Lawrenceville\, GA\, 30044\, United States
END:VEVENT
BEGIN:VEVENT
DTSTART;TZID=America/New_York:20261114T111500
DTEND;TZID=America/New_York:20261114T130000
DTSTAMP:20260421T112911
CREATED:20241227T220844Z
LAST-MODIFIED:20251224T013606Z
UID:10003677-1794654900-1794661200@atlantaallnationssda.org
SUMMARY:Midday Service
DESCRIPTION:Join us for worship and fellowship each week beginning at 11:15 am.
URL:https://atlantaallnationssda.org/event/midday-service/2026-11-14/
LOCATION:Atlanta All Nations SDA Church\, 1001 Old Snellville Highway\, Lawrenceville\, GA\, 30044\, United States
END:VEVENT
END:VCALENDAR