BEGIN:VCALENDAR
VERSION:2.0
PRODID:-//Atlanta All Nations SDA Church - ECPv6.15.20//NONSGML v1.0//EN
CALSCALE:GREGORIAN
METHOD:PUBLISH
X-WR-CALNAME:Atlanta All Nations SDA Church
X-ORIGINAL-URL:https://atlantaallnationssda.org
X-WR-CALDESC:Events for Atlanta All Nations SDA Church
REFRESH-INTERVAL;VALUE=DURATION:PT1H
X-Robots-Tag:noindex
X-PUBLISHED-TTL:PT1H
BEGIN:VTIMEZONE
TZID:America/New_York
BEGIN:DAYLIGHT
TZOFFSETFROM:-0500
TZOFFSETTO:-0400
TZNAME:EDT
DTSTART:20250309T070000
END:DAYLIGHT
BEGIN:STANDARD
TZOFFSETFROM:-0400
TZOFFSETTO:-0500
TZNAME:EST
DTSTART:20251102T060000
END:STANDARD
BEGIN:DAYLIGHT
TZOFFSETFROM:-0500
TZOFFSETTO:-0400
TZNAME:EDT
DTSTART:20260308T070000
END:DAYLIGHT
BEGIN:STANDARD
TZOFFSETFROM:-0400
TZOFFSETTO:-0500
TZNAME:EST
DTSTART:20261101T060000
END:STANDARD
BEGIN:DAYLIGHT
TZOFFSETFROM:-0500
TZOFFSETTO:-0400
TZNAME:EDT
DTSTART:20270314T070000
END:DAYLIGHT
BEGIN:STANDARD
TZOFFSETFROM:-0400
TZOFFSETTO:-0500
TZNAME:EST
DTSTART:20271107T060000
END:STANDARD
END:VTIMEZONE
BEGIN:VEVENT
DTSTART;TZID=America/New_York:20260503T080000
DTEND;TZID=America/New_York:20260503T100000
DTSTAMP:20260421T134429
CREATED:20251206T010512Z
LAST-MODIFIED:20251206T010512Z
UID:10005007-1777795200-1777802400@atlantaallnationssda.org
SUMMARY:Prayer and Fasting
DESCRIPTION:Join us every first Sunday of the month in Alexander Park as we fast and seek God in praise and prayer.
URL:https://atlantaallnationssda.org/event/prayer-and-fasting/2026-05-03/
LOCATION:Lois Lane Allen Pavilion\, Alexander Park\, 800 Old Snellville Hwy\, Lawrenceville\, 30044\, United States
ATTACH;FMTTYPE=image/jpeg:https://atlantaallnationssda.org/wp-content/uploads/2025/12/prayer-park.jpg
END:VEVENT
BEGIN:VEVENT
DTSTART;TZID=America/New_York:20260607T080000
DTEND;TZID=America/New_York:20260607T100000
DTSTAMP:20260421T134429
CREATED:20251206T010512Z
LAST-MODIFIED:20251206T010512Z
UID:10005008-1780819200-1780826400@atlantaallnationssda.org
SUMMARY:Prayer and Fasting
DESCRIPTION:Join us every first Sunday of the month in Alexander Park as we fast and seek God in praise and prayer.
URL:https://atlantaallnationssda.org/event/prayer-and-fasting/2026-06-07/
LOCATION:Lois Lane Allen Pavilion\, Alexander Park\, 800 Old Snellville Hwy\, Lawrenceville\, 30044\, United States
ATTACH;FMTTYPE=image/jpeg:https://atlantaallnationssda.org/wp-content/uploads/2025/12/prayer-park.jpg
END:VEVENT
BEGIN:VEVENT
DTSTART;TZID=America/New_York:20260705T080000
DTEND;TZID=America/New_York:20260705T100000
DTSTAMP:20260421T134429
CREATED:20251206T010512Z
LAST-MODIFIED:20251206T010512Z
UID:10005009-1783238400-1783245600@atlantaallnationssda.org
SUMMARY:Prayer and Fasting
DESCRIPTION:Join us every first Sunday of the month in Alexander Park as we fast and seek God in praise and prayer.
URL:https://atlantaallnationssda.org/event/prayer-and-fasting/2026-07-05/
LOCATION:Lois Lane Allen Pavilion\, Alexander Park\, 800 Old Snellville Hwy\, Lawrenceville\, 30044\, United States
ATTACH;FMTTYPE=image/jpeg:https://atlantaallnationssda.org/wp-content/uploads/2025/12/prayer-park.jpg
END:VEVENT
BEGIN:VEVENT
DTSTART;TZID=America/New_York:20260802T080000
DTEND;TZID=America/New_York:20260802T100000
DTSTAMP:20260421T134429
CREATED:20251206T010512Z
LAST-MODIFIED:20251206T010512Z
UID:10005010-1785657600-1785664800@atlantaallnationssda.org
SUMMARY:Prayer and Fasting
DESCRIPTION:Join us every first Sunday of the month in Alexander Park as we fast and seek God in praise and prayer.
URL:https://atlantaallnationssda.org/event/prayer-and-fasting/2026-08-02/
LOCATION:Lois Lane Allen Pavilion\, Alexander Park\, 800 Old Snellville Hwy\, Lawrenceville\, 30044\, United States
ATTACH;FMTTYPE=image/jpeg:https://atlantaallnationssda.org/wp-content/uploads/2025/12/prayer-park.jpg
END:VEVENT
BEGIN:VEVENT
DTSTART;TZID=America/New_York:20260906T080000
DTEND;TZID=America/New_York:20260906T100000
DTSTAMP:20260421T134429
CREATED:20251206T010512Z
LAST-MODIFIED:20251206T010512Z
UID:10005011-1788681600-1788688800@atlantaallnationssda.org
SUMMARY:Prayer and Fasting
DESCRIPTION:Join us every first Sunday of the month in Alexander Park as we fast and seek God in praise and prayer.
URL:https://atlantaallnationssda.org/event/prayer-and-fasting/2026-09-06/
LOCATION:Lois Lane Allen Pavilion\, Alexander Park\, 800 Old Snellville Hwy\, Lawrenceville\, 30044\, United States
ATTACH;FMTTYPE=image/jpeg:https://atlantaallnationssda.org/wp-content/uploads/2025/12/prayer-park.jpg
END:VEVENT
BEGIN:VEVENT
DTSTART;TZID=America/New_York:20261004T080000
DTEND;TZID=America/New_York:20261004T100000
DTSTAMP:20260421T134429
CREATED:20251206T010512Z
LAST-MODIFIED:20251206T010512Z
UID:10005012-1791100800-1791108000@atlantaallnationssda.org
SUMMARY:Prayer and Fasting
DESCRIPTION:Join us every first Sunday of the month in Alexander Park as we fast and seek God in praise and prayer.
URL:https://atlantaallnationssda.org/event/prayer-and-fasting/2026-10-04/
LOCATION:Lois Lane Allen Pavilion\, Alexander Park\, 800 Old Snellville Hwy\, Lawrenceville\, 30044\, United States
ATTACH;FMTTYPE=image/jpeg:https://atlantaallnationssda.org/wp-content/uploads/2025/12/prayer-park.jpg
END:VEVENT
BEGIN:VEVENT
DTSTART;TZID=America/New_York:20261101T080000
DTEND;TZID=America/New_York:20261101T100000
DTSTAMP:20260421T134429
CREATED:20251206T010512Z
LAST-MODIFIED:20251206T010512Z
UID:10005013-1793520000-1793527200@atlantaallnationssda.org
SUMMARY:Prayer and Fasting
DESCRIPTION:Join us every first Sunday of the month in Alexander Park as we fast and seek God in praise and prayer.
URL:https://atlantaallnationssda.org/event/prayer-and-fasting/2026-11-01/
LOCATION:Lois Lane Allen Pavilion\, Alexander Park\, 800 Old Snellville Hwy\, Lawrenceville\, 30044\, United States
ATTACH;FMTTYPE=image/jpeg:https://atlantaallnationssda.org/wp-content/uploads/2025/12/prayer-park.jpg
END:VEVENT
END:VCALENDAR