BEGIN:VCALENDAR
VERSION:2.0
PRODID:-//Atlanta All Nations SDA Church - ECPv6.15.20//NONSGML v1.0//EN
CALSCALE:GREGORIAN
METHOD:PUBLISH
X-WR-CALNAME:Atlanta All Nations SDA Church
X-ORIGINAL-URL:https://atlantaallnationssda.org
X-WR-CALDESC:Events for Atlanta All Nations SDA Church
REFRESH-INTERVAL;VALUE=DURATION:PT1H
X-Robots-Tag:noindex
X-PUBLISHED-TTL:PT1H
BEGIN:VTIMEZONE
TZID:America/New_York
BEGIN:DAYLIGHT
TZOFFSETFROM:-0500
TZOFFSETTO:-0400
TZNAME:EDT
DTSTART:20250309T070000
END:DAYLIGHT
BEGIN:STANDARD
TZOFFSETFROM:-0400
TZOFFSETTO:-0500
TZNAME:EST
DTSTART:20251102T060000
END:STANDARD
BEGIN:DAYLIGHT
TZOFFSETFROM:-0500
TZOFFSETTO:-0400
TZNAME:EDT
DTSTART:20260308T070000
END:DAYLIGHT
BEGIN:STANDARD
TZOFFSETFROM:-0400
TZOFFSETTO:-0500
TZNAME:EST
DTSTART:20261101T060000
END:STANDARD
BEGIN:DAYLIGHT
TZOFFSETFROM:-0500
TZOFFSETTO:-0400
TZNAME:EDT
DTSTART:20270314T070000
END:DAYLIGHT
BEGIN:STANDARD
TZOFFSETFROM:-0400
TZOFFSETTO:-0500
TZNAME:EST
DTSTART:20271107T060000
END:STANDARD
END:VTIMEZONE
BEGIN:VEVENT
DTSTART;TZID=America/New_York:20260422T060000
DTEND;TZID=America/New_York:20260422T070000
DTSTAMP:20260421T080718
CREATED:20240311T013952Z
LAST-MODIFIED:20250712T122931Z
UID:10000895-1776837600-1776841200@atlantaallnationssda.org
SUMMARY:Morning Prayer
DESCRIPTION:Join us in the morning as we intercede and claim God’s Word using the indestructible weapons He has given us. \nPrayer changes everything! \nZoom Connection\nMeeting ID:960 666 0861\nPasscode: 870049
URL:https://atlantaallnationssda.org/event/morning-prayer-2/2026-04-22/
ATTACH;FMTTYPE=image/jpeg:https://atlantaallnationssda.org/wp-content/uploads/2024/03/prayer.jpg
END:VEVENT
BEGIN:VEVENT
DTSTART;TZID=America/New_York:20260423T060000
DTEND;TZID=America/New_York:20260423T070000
DTSTAMP:20260421T080718
CREATED:20240311T013952Z
LAST-MODIFIED:20250712T122931Z
UID:10004612-1776924000-1776927600@atlantaallnationssda.org
SUMMARY:Morning Prayer
DESCRIPTION:Join us in the morning as we intercede and claim God’s Word using the indestructible weapons He has given us. \nPrayer changes everything! \nZoom Connection\nMeeting ID:960 666 0861\nPasscode: 870049
URL:https://atlantaallnationssda.org/event/morning-prayer-2/2026-04-23/
ATTACH;FMTTYPE=image/jpeg:https://atlantaallnationssda.org/wp-content/uploads/2024/03/prayer.jpg
END:VEVENT
BEGIN:VEVENT
DTSTART;TZID=America/New_York:20260424T060000
DTEND;TZID=America/New_York:20260424T070000
DTSTAMP:20260421T080718
CREATED:20240311T013952Z
LAST-MODIFIED:20250712T122931Z
UID:10004613-1777010400-1777014000@atlantaallnationssda.org
SUMMARY:Morning Prayer
DESCRIPTION:Join us in the morning as we intercede and claim God’s Word using the indestructible weapons He has given us. \nPrayer changes everything! \nZoom Connection\nMeeting ID:960 666 0861\nPasscode: 870049
URL:https://atlantaallnationssda.org/event/morning-prayer-2/2026-04-24/
ATTACH;FMTTYPE=image/jpeg:https://atlantaallnationssda.org/wp-content/uploads/2024/03/prayer.jpg
END:VEVENT
BEGIN:VEVENT
DTSTART;TZID=America/New_York:20260425T060000
DTEND;TZID=America/New_York:20260425T070000
DTSTAMP:20260421T080718
CREATED:20240311T013952Z
LAST-MODIFIED:20250712T122931Z
UID:10004614-1777096800-1777100400@atlantaallnationssda.org
SUMMARY:Morning Prayer
DESCRIPTION:Join us in the morning as we intercede and claim God’s Word using the indestructible weapons He has given us. \nPrayer changes everything! \nZoom Connection\nMeeting ID:960 666 0861\nPasscode: 870049
URL:https://atlantaallnationssda.org/event/morning-prayer-2/2026-04-25/
ATTACH;FMTTYPE=image/jpeg:https://atlantaallnationssda.org/wp-content/uploads/2024/03/prayer.jpg
END:VEVENT
BEGIN:VEVENT
DTSTART;TZID=America/New_York:20260426T060000
DTEND;TZID=America/New_York:20260426T070000
DTSTAMP:20260421T080718
CREATED:20240311T013952Z
LAST-MODIFIED:20250712T122931Z
UID:10004615-1777183200-1777186800@atlantaallnationssda.org
SUMMARY:Morning Prayer
DESCRIPTION:Join us in the morning as we intercede and claim God’s Word using the indestructible weapons He has given us. \nPrayer changes everything! \nZoom Connection\nMeeting ID:960 666 0861\nPasscode: 870049
URL:https://atlantaallnationssda.org/event/morning-prayer-2/2026-04-26/
ATTACH;FMTTYPE=image/jpeg:https://atlantaallnationssda.org/wp-content/uploads/2024/03/prayer.jpg
END:VEVENT
BEGIN:VEVENT
DTSTART;TZID=America/New_York:20260427T060000
DTEND;TZID=America/New_York:20260427T070000
DTSTAMP:20260421T080718
CREATED:20240311T013952Z
LAST-MODIFIED:20250712T122931Z
UID:10004616-1777269600-1777273200@atlantaallnationssda.org
SUMMARY:Morning Prayer
DESCRIPTION:Join us in the morning as we intercede and claim God’s Word using the indestructible weapons He has given us. \nPrayer changes everything! \nZoom Connection\nMeeting ID:960 666 0861\nPasscode: 870049
URL:https://atlantaallnationssda.org/event/morning-prayer-2/2026-04-27/
ATTACH;FMTTYPE=image/jpeg:https://atlantaallnationssda.org/wp-content/uploads/2024/03/prayer.jpg
END:VEVENT
BEGIN:VEVENT
DTSTART;TZID=America/New_York:20260428T060000
DTEND;TZID=America/New_York:20260428T070000
DTSTAMP:20260421T080718
CREATED:20240311T013952Z
LAST-MODIFIED:20250712T122931Z
UID:10004617-1777356000-1777359600@atlantaallnationssda.org
SUMMARY:Morning Prayer
DESCRIPTION:Join us in the morning as we intercede and claim God’s Word using the indestructible weapons He has given us. \nPrayer changes everything! \nZoom Connection\nMeeting ID:960 666 0861\nPasscode: 870049
URL:https://atlantaallnationssda.org/event/morning-prayer-2/2026-04-28/
ATTACH;FMTTYPE=image/jpeg:https://atlantaallnationssda.org/wp-content/uploads/2024/03/prayer.jpg
END:VEVENT
BEGIN:VEVENT
DTSTART;TZID=America/New_York:20260429T060000
DTEND;TZID=America/New_York:20260429T070000
DTSTAMP:20260421T080718
CREATED:20240311T013952Z
LAST-MODIFIED:20250712T122931Z
UID:10000896-1777442400-1777446000@atlantaallnationssda.org
SUMMARY:Morning Prayer
DESCRIPTION:Join us in the morning as we intercede and claim God’s Word using the indestructible weapons He has given us. \nPrayer changes everything! \nZoom Connection\nMeeting ID:960 666 0861\nPasscode: 870049
URL:https://atlantaallnationssda.org/event/morning-prayer-2/2026-04-29/
ATTACH;FMTTYPE=image/jpeg:https://atlantaallnationssda.org/wp-content/uploads/2024/03/prayer.jpg
END:VEVENT
BEGIN:VEVENT
DTSTART;TZID=America/New_York:20260430T060000
DTEND;TZID=America/New_York:20260430T070000
DTSTAMP:20260421T080718
CREATED:20240311T013952Z
LAST-MODIFIED:20250712T122931Z
UID:10004618-1777528800-1777532400@atlantaallnationssda.org
SUMMARY:Morning Prayer
DESCRIPTION:Join us in the morning as we intercede and claim God’s Word using the indestructible weapons He has given us. \nPrayer changes everything! \nZoom Connection\nMeeting ID:960 666 0861\nPasscode: 870049
URL:https://atlantaallnationssda.org/event/morning-prayer-2/2026-04-30/
ATTACH;FMTTYPE=image/jpeg:https://atlantaallnationssda.org/wp-content/uploads/2024/03/prayer.jpg
END:VEVENT
BEGIN:VEVENT
DTSTART;TZID=America/New_York:20260501T060000
DTEND;TZID=America/New_York:20260501T070000
DTSTAMP:20260421T080718
CREATED:20240311T013952Z
LAST-MODIFIED:20250712T122931Z
UID:10004619-1777615200-1777618800@atlantaallnationssda.org
SUMMARY:Morning Prayer
DESCRIPTION:Join us in the morning as we intercede and claim God’s Word using the indestructible weapons He has given us. \nPrayer changes everything! \nZoom Connection\nMeeting ID:960 666 0861\nPasscode: 870049
URL:https://atlantaallnationssda.org/event/morning-prayer-2/2026-05-01/
ATTACH;FMTTYPE=image/jpeg:https://atlantaallnationssda.org/wp-content/uploads/2024/03/prayer.jpg
END:VEVENT
BEGIN:VEVENT
DTSTART;TZID=America/New_York:20260502T060000
DTEND;TZID=America/New_York:20260502T070000
DTSTAMP:20260421T080718
CREATED:20240311T013952Z
LAST-MODIFIED:20250712T122931Z
UID:10004620-1777701600-1777705200@atlantaallnationssda.org
SUMMARY:Morning Prayer
DESCRIPTION:Join us in the morning as we intercede and claim God’s Word using the indestructible weapons He has given us. \nPrayer changes everything! \nZoom Connection\nMeeting ID:960 666 0861\nPasscode: 870049
URL:https://atlantaallnationssda.org/event/morning-prayer-2/2026-05-02/
ATTACH;FMTTYPE=image/jpeg:https://atlantaallnationssda.org/wp-content/uploads/2024/03/prayer.jpg
END:VEVENT
BEGIN:VEVENT
DTSTART;TZID=America/New_York:20260503T060000
DTEND;TZID=America/New_York:20260503T070000
DTSTAMP:20260421T080718
CREATED:20240311T013952Z
LAST-MODIFIED:20250712T122931Z
UID:10004621-1777788000-1777791600@atlantaallnationssda.org
SUMMARY:Morning Prayer
DESCRIPTION:Join us in the morning as we intercede and claim God’s Word using the indestructible weapons He has given us. \nPrayer changes everything! \nZoom Connection\nMeeting ID:960 666 0861\nPasscode: 870049
URL:https://atlantaallnationssda.org/event/morning-prayer-2/2026-05-03/
ATTACH;FMTTYPE=image/jpeg:https://atlantaallnationssda.org/wp-content/uploads/2024/03/prayer.jpg
END:VEVENT
BEGIN:VEVENT
DTSTART;TZID=America/New_York:20260504T060000
DTEND;TZID=America/New_York:20260504T070000
DTSTAMP:20260421T080718
CREATED:20240311T013952Z
LAST-MODIFIED:20250712T122931Z
UID:10004622-1777874400-1777878000@atlantaallnationssda.org
SUMMARY:Morning Prayer
DESCRIPTION:Join us in the morning as we intercede and claim God’s Word using the indestructible weapons He has given us. \nPrayer changes everything! \nZoom Connection\nMeeting ID:960 666 0861\nPasscode: 870049
URL:https://atlantaallnationssda.org/event/morning-prayer-2/2026-05-04/
ATTACH;FMTTYPE=image/jpeg:https://atlantaallnationssda.org/wp-content/uploads/2024/03/prayer.jpg
END:VEVENT
BEGIN:VEVENT
DTSTART;TZID=America/New_York:20260505T060000
DTEND;TZID=America/New_York:20260505T070000
DTSTAMP:20260421T080718
CREATED:20240311T013952Z
LAST-MODIFIED:20250712T122931Z
UID:10004623-1777960800-1777964400@atlantaallnationssda.org
SUMMARY:Morning Prayer
DESCRIPTION:Join us in the morning as we intercede and claim God’s Word using the indestructible weapons He has given us. \nPrayer changes everything! \nZoom Connection\nMeeting ID:960 666 0861\nPasscode: 870049
URL:https://atlantaallnationssda.org/event/morning-prayer-2/2026-05-05/
ATTACH;FMTTYPE=image/jpeg:https://atlantaallnationssda.org/wp-content/uploads/2024/03/prayer.jpg
END:VEVENT
BEGIN:VEVENT
DTSTART;TZID=America/New_York:20260506T060000
DTEND;TZID=America/New_York:20260506T070000
DTSTAMP:20260421T080718
CREATED:20240311T013952Z
LAST-MODIFIED:20250712T122931Z
UID:10000897-1778047200-1778050800@atlantaallnationssda.org
SUMMARY:Morning Prayer
DESCRIPTION:Join us in the morning as we intercede and claim God’s Word using the indestructible weapons He has given us. \nPrayer changes everything! \nZoom Connection\nMeeting ID:960 666 0861\nPasscode: 870049
URL:https://atlantaallnationssda.org/event/morning-prayer-2/2026-05-06/
ATTACH;FMTTYPE=image/jpeg:https://atlantaallnationssda.org/wp-content/uploads/2024/03/prayer.jpg
END:VEVENT
BEGIN:VEVENT
DTSTART;TZID=America/New_York:20260507T060000
DTEND;TZID=America/New_York:20260507T070000
DTSTAMP:20260421T080718
CREATED:20240311T013952Z
LAST-MODIFIED:20250712T122931Z
UID:10004624-1778133600-1778137200@atlantaallnationssda.org
SUMMARY:Morning Prayer
DESCRIPTION:Join us in the morning as we intercede and claim God’s Word using the indestructible weapons He has given us. \nPrayer changes everything! \nZoom Connection\nMeeting ID:960 666 0861\nPasscode: 870049
URL:https://atlantaallnationssda.org/event/morning-prayer-2/2026-05-07/
ATTACH;FMTTYPE=image/jpeg:https://atlantaallnationssda.org/wp-content/uploads/2024/03/prayer.jpg
END:VEVENT
BEGIN:VEVENT
DTSTART;TZID=America/New_York:20260508T060000
DTEND;TZID=America/New_York:20260508T070000
DTSTAMP:20260421T080718
CREATED:20240311T013952Z
LAST-MODIFIED:20250712T122931Z
UID:10004625-1778220000-1778223600@atlantaallnationssda.org
SUMMARY:Morning Prayer
DESCRIPTION:Join us in the morning as we intercede and claim God’s Word using the indestructible weapons He has given us. \nPrayer changes everything! \nZoom Connection\nMeeting ID:960 666 0861\nPasscode: 870049
URL:https://atlantaallnationssda.org/event/morning-prayer-2/2026-05-08/
ATTACH;FMTTYPE=image/jpeg:https://atlantaallnationssda.org/wp-content/uploads/2024/03/prayer.jpg
END:VEVENT
BEGIN:VEVENT
DTSTART;TZID=America/New_York:20260509T060000
DTEND;TZID=America/New_York:20260509T070000
DTSTAMP:20260421T080718
CREATED:20240311T013952Z
LAST-MODIFIED:20250712T122931Z
UID:10004626-1778306400-1778310000@atlantaallnationssda.org
SUMMARY:Morning Prayer
DESCRIPTION:Join us in the morning as we intercede and claim God’s Word using the indestructible weapons He has given us. \nPrayer changes everything! \nZoom Connection\nMeeting ID:960 666 0861\nPasscode: 870049
URL:https://atlantaallnationssda.org/event/morning-prayer-2/2026-05-09/
ATTACH;FMTTYPE=image/jpeg:https://atlantaallnationssda.org/wp-content/uploads/2024/03/prayer.jpg
END:VEVENT
BEGIN:VEVENT
DTSTART;TZID=America/New_York:20260510T060000
DTEND;TZID=America/New_York:20260510T070000
DTSTAMP:20260421T080718
CREATED:20240311T013952Z
LAST-MODIFIED:20250712T122931Z
UID:10004627-1778392800-1778396400@atlantaallnationssda.org
SUMMARY:Morning Prayer
DESCRIPTION:Join us in the morning as we intercede and claim God’s Word using the indestructible weapons He has given us. \nPrayer changes everything! \nZoom Connection\nMeeting ID:960 666 0861\nPasscode: 870049
URL:https://atlantaallnationssda.org/event/morning-prayer-2/2026-05-10/
ATTACH;FMTTYPE=image/jpeg:https://atlantaallnationssda.org/wp-content/uploads/2024/03/prayer.jpg
END:VEVENT
BEGIN:VEVENT
DTSTART;TZID=America/New_York:20260511T060000
DTEND;TZID=America/New_York:20260511T070000
DTSTAMP:20260421T080718
CREATED:20240311T013952Z
LAST-MODIFIED:20250712T122931Z
UID:10004628-1778479200-1778482800@atlantaallnationssda.org
SUMMARY:Morning Prayer
DESCRIPTION:Join us in the morning as we intercede and claim God’s Word using the indestructible weapons He has given us. \nPrayer changes everything! \nZoom Connection\nMeeting ID:960 666 0861\nPasscode: 870049
URL:https://atlantaallnationssda.org/event/morning-prayer-2/2026-05-11/
ATTACH;FMTTYPE=image/jpeg:https://atlantaallnationssda.org/wp-content/uploads/2024/03/prayer.jpg
END:VEVENT
BEGIN:VEVENT
DTSTART;TZID=America/New_York:20260512T060000
DTEND;TZID=America/New_York:20260512T070000
DTSTAMP:20260421T080718
CREATED:20240311T013952Z
LAST-MODIFIED:20250712T122931Z
UID:10004629-1778565600-1778569200@atlantaallnationssda.org
SUMMARY:Morning Prayer
DESCRIPTION:Join us in the morning as we intercede and claim God’s Word using the indestructible weapons He has given us. \nPrayer changes everything! \nZoom Connection\nMeeting ID:960 666 0861\nPasscode: 870049
URL:https://atlantaallnationssda.org/event/morning-prayer-2/2026-05-12/
ATTACH;FMTTYPE=image/jpeg:https://atlantaallnationssda.org/wp-content/uploads/2024/03/prayer.jpg
END:VEVENT
BEGIN:VEVENT
DTSTART;TZID=America/New_York:20260513T060000
DTEND;TZID=America/New_York:20260513T070000
DTSTAMP:20260421T080718
CREATED:20240311T013952Z
LAST-MODIFIED:20250712T122931Z
UID:10000898-1778652000-1778655600@atlantaallnationssda.org
SUMMARY:Morning Prayer
DESCRIPTION:Join us in the morning as we intercede and claim God’s Word using the indestructible weapons He has given us. \nPrayer changes everything! \nZoom Connection\nMeeting ID:960 666 0861\nPasscode: 870049
URL:https://atlantaallnationssda.org/event/morning-prayer-2/2026-05-13/
ATTACH;FMTTYPE=image/jpeg:https://atlantaallnationssda.org/wp-content/uploads/2024/03/prayer.jpg
END:VEVENT
BEGIN:VEVENT
DTSTART;TZID=America/New_York:20260514T060000
DTEND;TZID=America/New_York:20260514T070000
DTSTAMP:20260421T080718
CREATED:20240311T013952Z
LAST-MODIFIED:20250712T122931Z
UID:10004630-1778738400-1778742000@atlantaallnationssda.org
SUMMARY:Morning Prayer
DESCRIPTION:Join us in the morning as we intercede and claim God’s Word using the indestructible weapons He has given us. \nPrayer changes everything! \nZoom Connection\nMeeting ID:960 666 0861\nPasscode: 870049
URL:https://atlantaallnationssda.org/event/morning-prayer-2/2026-05-14/
ATTACH;FMTTYPE=image/jpeg:https://atlantaallnationssda.org/wp-content/uploads/2024/03/prayer.jpg
END:VEVENT
BEGIN:VEVENT
DTSTART;TZID=America/New_York:20260515T060000
DTEND;TZID=America/New_York:20260515T070000
DTSTAMP:20260421T080718
CREATED:20240311T013952Z
LAST-MODIFIED:20250712T122931Z
UID:10004631-1778824800-1778828400@atlantaallnationssda.org
SUMMARY:Morning Prayer
DESCRIPTION:Join us in the morning as we intercede and claim God’s Word using the indestructible weapons He has given us. \nPrayer changes everything! \nZoom Connection\nMeeting ID:960 666 0861\nPasscode: 870049
URL:https://atlantaallnationssda.org/event/morning-prayer-2/2026-05-15/
ATTACH;FMTTYPE=image/jpeg:https://atlantaallnationssda.org/wp-content/uploads/2024/03/prayer.jpg
END:VEVENT
BEGIN:VEVENT
DTSTART;TZID=America/New_York:20260516T060000
DTEND;TZID=America/New_York:20260516T070000
DTSTAMP:20260421T080718
CREATED:20240311T013952Z
LAST-MODIFIED:20250712T122931Z
UID:10004632-1778911200-1778914800@atlantaallnationssda.org
SUMMARY:Morning Prayer
DESCRIPTION:Join us in the morning as we intercede and claim God’s Word using the indestructible weapons He has given us. \nPrayer changes everything! \nZoom Connection\nMeeting ID:960 666 0861\nPasscode: 870049
URL:https://atlantaallnationssda.org/event/morning-prayer-2/2026-05-16/
ATTACH;FMTTYPE=image/jpeg:https://atlantaallnationssda.org/wp-content/uploads/2024/03/prayer.jpg
END:VEVENT
BEGIN:VEVENT
DTSTART;TZID=America/New_York:20260517T060000
DTEND;TZID=America/New_York:20260517T070000
DTSTAMP:20260421T080718
CREATED:20240311T013952Z
LAST-MODIFIED:20250712T122931Z
UID:10004633-1778997600-1779001200@atlantaallnationssda.org
SUMMARY:Morning Prayer
DESCRIPTION:Join us in the morning as we intercede and claim God’s Word using the indestructible weapons He has given us. \nPrayer changes everything! \nZoom Connection\nMeeting ID:960 666 0861\nPasscode: 870049
URL:https://atlantaallnationssda.org/event/morning-prayer-2/2026-05-17/
ATTACH;FMTTYPE=image/jpeg:https://atlantaallnationssda.org/wp-content/uploads/2024/03/prayer.jpg
END:VEVENT
BEGIN:VEVENT
DTSTART;TZID=America/New_York:20260518T060000
DTEND;TZID=America/New_York:20260518T070000
DTSTAMP:20260421T080718
CREATED:20240311T013952Z
LAST-MODIFIED:20250712T122931Z
UID:10004634-1779084000-1779087600@atlantaallnationssda.org
SUMMARY:Morning Prayer
DESCRIPTION:Join us in the morning as we intercede and claim God’s Word using the indestructible weapons He has given us. \nPrayer changes everything! \nZoom Connection\nMeeting ID:960 666 0861\nPasscode: 870049
URL:https://atlantaallnationssda.org/event/morning-prayer-2/2026-05-18/
ATTACH;FMTTYPE=image/jpeg:https://atlantaallnationssda.org/wp-content/uploads/2024/03/prayer.jpg
END:VEVENT
BEGIN:VEVENT
DTSTART;TZID=America/New_York:20260519T060000
DTEND;TZID=America/New_York:20260519T070000
DTSTAMP:20260421T080718
CREATED:20240311T013952Z
LAST-MODIFIED:20250712T122931Z
UID:10004635-1779170400-1779174000@atlantaallnationssda.org
SUMMARY:Morning Prayer
DESCRIPTION:Join us in the morning as we intercede and claim God’s Word using the indestructible weapons He has given us. \nPrayer changes everything! \nZoom Connection\nMeeting ID:960 666 0861\nPasscode: 870049
URL:https://atlantaallnationssda.org/event/morning-prayer-2/2026-05-19/
ATTACH;FMTTYPE=image/jpeg:https://atlantaallnationssda.org/wp-content/uploads/2024/03/prayer.jpg
END:VEVENT
BEGIN:VEVENT
DTSTART;TZID=America/New_York:20260520T060000
DTEND;TZID=America/New_York:20260520T070000
DTSTAMP:20260421T080718
CREATED:20240311T013952Z
LAST-MODIFIED:20250712T122931Z
UID:10000899-1779256800-1779260400@atlantaallnationssda.org
SUMMARY:Morning Prayer
DESCRIPTION:Join us in the morning as we intercede and claim God’s Word using the indestructible weapons He has given us. \nPrayer changes everything! \nZoom Connection\nMeeting ID:960 666 0861\nPasscode: 870049
URL:https://atlantaallnationssda.org/event/morning-prayer-2/2026-05-20/
ATTACH;FMTTYPE=image/jpeg:https://atlantaallnationssda.org/wp-content/uploads/2024/03/prayer.jpg
END:VEVENT
BEGIN:VEVENT
DTSTART;TZID=America/New_York:20260521T060000
DTEND;TZID=America/New_York:20260521T070000
DTSTAMP:20260421T080718
CREATED:20240311T013952Z
LAST-MODIFIED:20250712T122931Z
UID:10004636-1779343200-1779346800@atlantaallnationssda.org
SUMMARY:Morning Prayer
DESCRIPTION:Join us in the morning as we intercede and claim God’s Word using the indestructible weapons He has given us. \nPrayer changes everything! \nZoom Connection\nMeeting ID:960 666 0861\nPasscode: 870049
URL:https://atlantaallnationssda.org/event/morning-prayer-2/2026-05-21/
ATTACH;FMTTYPE=image/jpeg:https://atlantaallnationssda.org/wp-content/uploads/2024/03/prayer.jpg
END:VEVENT
END:VCALENDAR