BEGIN:VCALENDAR
VERSION:2.0
PRODID:-//Atlanta All Nations SDA Church - ECPv6.15.20//NONSGML v1.0//EN
CALSCALE:GREGORIAN
METHOD:PUBLISH
X-WR-CALNAME:Atlanta All Nations SDA Church
X-ORIGINAL-URL:https://atlantaallnationssda.org
X-WR-CALDESC:Events for Atlanta All Nations SDA Church
REFRESH-INTERVAL;VALUE=DURATION:PT1H
X-Robots-Tag:noindex
X-PUBLISHED-TTL:PT1H
BEGIN:VTIMEZONE
TZID:America/New_York
BEGIN:DAYLIGHT
TZOFFSETFROM:-0500
TZOFFSETTO:-0400
TZNAME:EDT
DTSTART:20250309T070000
END:DAYLIGHT
BEGIN:STANDARD
TZOFFSETFROM:-0400
TZOFFSETTO:-0500
TZNAME:EST
DTSTART:20251102T060000
END:STANDARD
BEGIN:DAYLIGHT
TZOFFSETFROM:-0500
TZOFFSETTO:-0400
TZNAME:EDT
DTSTART:20260308T070000
END:DAYLIGHT
BEGIN:STANDARD
TZOFFSETFROM:-0400
TZOFFSETTO:-0500
TZNAME:EST
DTSTART:20261101T060000
END:STANDARD
BEGIN:DAYLIGHT
TZOFFSETFROM:-0500
TZOFFSETTO:-0400
TZNAME:EDT
DTSTART:20270314T070000
END:DAYLIGHT
BEGIN:STANDARD
TZOFFSETFROM:-0400
TZOFFSETTO:-0500
TZNAME:EST
DTSTART:20271107T060000
END:STANDARD
END:VTIMEZONE
BEGIN:VEVENT
DTSTART;TZID=America/New_York:20260517T073000
DTEND;TZID=America/New_York:20260517T140000
DTSTAMP:20260421T122358
CREATED:20260411T203748Z
LAST-MODIFIED:20260411T203748Z
UID:10005122-1779003000-1779026400@atlantaallnationssda.org
SUMMARY:Amicalola Falls State Park Walk
DESCRIPTION:Enjoy scenic trails\, waterfalls\, and fellowship in nature.
URL:https://atlantaallnationssda.org/event/amicalola-falls-state-park-walk/
LOCATION:Amicacola Falls State Park\, 418 Amicalola Falls State Park Rd\, Dawsonville\, GA\, 30534\, United States
CATEGORIES:Social
END:VEVENT
END:VCALENDAR